BEGIN:VCALENDAR
VERSION:2.0
PRODID:-//jEvents 2.0 for Joomla//EN
CALSCALE:GREGORIAN
METHOD:PUBLISH
BEGIN:VTIMEZONE
TZID:America/New_York
END:VTIMEZONE
BEGIN:VEVENT
UID:0e60e3d65064e92f864fc20a0848ea83
CATEGORIES:Boys Varsity
CREATED:20240202T122010
SUMMARY:WS @ Grove City (Scrimmage)
DESCRIPTION:
DTSTAMP:20260423T103134
DTSTART;TZID=America/New_York:20240311T173000
SEQUENCE:0
TRANSP:OPAQUE
END:VEVENT
END:VCALENDAR